BEGIN:VCALENDAR
VERSION:2.0
PRODID:-//Maine Animal Coalition - ECPv6.13.2.1//NONSGML v1.0//EN
CALSCALE:GREGORIAN
METHOD:PUBLISH
X-WR-CALNAME:Maine Animal Coalition
X-ORIGINAL-URL:https://www.maineanimalcoalition.org
X-WR-CALDESC:Events for Maine Animal Coalition
REFRESH-INTERVAL;VALUE=DURATION:PT1H
X-Robots-Tag:noindex
X-PUBLISHED-TTL:PT1H
BEGIN:VTIMEZONE
TZID:America/New_York
BEGIN:DAYLIGHT
TZOFFSETFROM:-0500
TZOFFSETTO:-0400
TZNAME:EDT
DTSTART:20200308T070000
END:DAYLIGHT
BEGIN:STANDARD
TZOFFSETFROM:-0400
TZOFFSETTO:-0500
TZNAME:EST
DTSTART:20201101T060000
END:STANDARD
END:VTIMEZONE
BEGIN:VTIMEZONE
TZID:UTC
BEGIN:STANDARD
TZOFFSETFROM:+0000
TZOFFSETTO:+0000
TZNAME:UTC
DTSTART:20160101T000000
END:STANDARD
END:VTIMEZONE
BEGIN:VEVENT
DTSTART;TZID=America/New_York:20200201T140000
DTEND;TZID=America/New_York:20200201T153000
DTSTAMP:20260424T061658
CREATED:20200129T135822Z
LAST-MODIFIED:20200129T140407Z
UID:1641-1580565600-1580571000@www.maineanimalcoalition.org
SUMMARY:Dr. Tim Howe to Speak!
DESCRIPTION:Dr. Tim Howe to speak in Portland at White Memorial Church (97 Allen Ave.) on Saturday February 1st at 2 pm.  Dr. Howe\, an advocate of a whole-foods\, plant-based diet\,  will speak on how to use diet to prevent\, treat and reverse common illnesses.  Please RSVP via the church at (207) 797 4414. 
URL:https://www.maineanimalcoalition.org/event/dr-tim-howe-to-speak
END:VEVENT
BEGIN:VEVENT
DTSTART;TZID=UTC:20161104T170000
DTEND;TZID=UTC:20161104T210000
DTSTAMP:20260424T061658
CREATED:20161014T043443Z
LAST-MODIFIED:20161014T043457Z
UID:213-1478278800-1478293200@www.maineanimalcoalition.org
SUMMARY:Create Turkey Portraits for the 46 Million Turkeys Project!
DESCRIPTION:Come participate in this annual cruelty-free tradition!\n\n\n	Add to the largest turkey-appreciation art project anywhere!\n\n\n	Join us in celebrating this wonderful and misunderstood creature by creating a turkey portrait to add to the exhibit. Everyone is invited to join in at and spread compassion – you don't need to be an artist to participate!\n \n\n	Just drop in on any of the below dates and draw your own turkey to add to our goal of reaching 46 million turkey portraits!\n \n\n	When:\n\n\n	1st Friday Art Walk: Friday Nov 4th 5-9pm\n	also\n	Saturday\, Nov 5th noon-5pm\n	Saturday\, Nov 12th noon-5pm\n	Saturday\, Nov 19th noon-5pm\n \n\n	Where:\n\n\n	Maine Animal Coalition Office\n	State Theater Building\n	142 High Street\, Suite 322 \n	Portland\, Maine\n \n\n	Why:\n\n\n	Because every turkey is an individual!\n \n\n	This event is hosted by Maine Animal Coalition\, 46 Million Turkeys and Peace Ridge Sanctuary\n \n\n	For any questions on this event please contact 46millionturkeys@gmail.com or mac@maineanimalcoalition.org
URL:https://www.maineanimalcoalition.org/event/create-turkey-portraits-46-million-turkeys-project
LOCATION:Maine Animal Coalition Office\, 142 High Street\, Suite 322\, Portland \, ME\, United States
END:VEVENT
END:VCALENDAR